BEGIN:VCALENDAR
VERSION:2.0
PRODID:-//Admington Parish Council//Meeting Calendar//EN
CALSCALE:GREGORIAN
METHOD:PUBLISH
BEGIN:VEVENT
UID:71532-20260505@admingtonparishcouncil.gov.uk
DTSTAMP:20260423T130504Z
DTSTART;VALUE=DATE:20260505
DTEND;VALUE=DATE:20260506
SUMMARY:Annual Parish Meeting 05 May 2026
DESCRIPTION:Annual Parish Meeting\nView details: https://admingtonparishcouncil.gov.uk/meetings/annual-parish-meeting-05-may-2026/
URL:https://admingtonparishcouncil.gov.uk/meetings/annual-parish-meeting-05-may-2026/
END:VEVENT
END:VCALENDAR
